BEGIN:VCALENDAR
VERSION:2.0
PRODID:-//HOME šokių studija - ECPv6.9.1//NONSGML v1.0//EN
CALSCALE:GREGORIAN
METHOD:PUBLISH
X-WR-CALNAME:HOME šokių studija
X-ORIGINAL-URL:https://homestudija.lt
X-WR-CALDESC:HOME šokių studija renginiai
REFRESH-INTERVAL;VALUE=DURATION:PT1H
X-Robots-Tag:noindex
X-PUBLISHED-TTL:PT1H
BEGIN:VTIMEZONE
TZID:Europe/Vilnius
BEGIN:DAYLIGHT
TZOFFSETFROM:+0200
TZOFFSETTO:+0300
TZNAME:EEST
DTSTART:20250330T010000
END:DAYLIGHT
BEGIN:STANDARD
TZOFFSETFROM:+0300
TZOFFSETTO:+0200
TZNAME:EET
DTSTART:20251026T010000
END:STANDARD
END:VTIMEZONE
BEGIN:VEVENT
DTSTART;TZID=Europe/Vilnius:20250607T130000
DTEND;TZID=Europe/Vilnius:20250607T143000
DTSTAMP:20260421T132854
CREATED:20250512T214429Z
LAST-MODIFIED:20250512T214429Z
UID:370-1749301200-1749306600@homestudija.lt
SUMMARY:CHOREO WORKSHOPS SU PAULY
DESCRIPTION:Ar jau pasiilgote choreo classes su Pauly? Vasarą jau tradiciškai pradedame su studijos trenere Paulina ir skelbiame paskutinius Home workshops šį sezoną. \nREGISTRACIJA \n\n  \nVieta: Home šokių studija | Savanorių pr. 419\, Kaunas \n  \nData: Birželio 7d. (šeštadienis) \n\n13:00 CHOREO CLASS\n\nKaina: \nHome studijos nariams | 10 eur\nStudijos svečiams | 15 eur\n\n\nRegistracija* į Workshops su Karina užsidarys birželio 5d.: https://forms.gle/GNLDdACeD8UaP4Wm6\n\n*Registracija laikoma galiojanti\, kai yra sumokama už seminarą. Apmokėti Home studijoje iki birželio 5d.\n\n\n#HOME
URL:https://homestudija.lt/event/choreo-workshops-su-pauly/
LOCATION:Home šokių studija\, Savanorių pr. 419\, Kaunas\, Lithuania
ATTACH;FMTTYPE=image/jpeg:https://homestudija.lt/wp-content/uploads/2025/05/LIEPA-2-min.jpg
END:VEVENT
BEGIN:VEVENT
DTSTART;TZID=Europe/Vilnius:20250322T120000
DTEND;TZID=Europe/Vilnius:20250322T153000
DTSTAMP:20260421T132854
CREATED:20250221T080952Z
LAST-MODIFIED:20250221T080952Z
UID:337-1742644800-1742657400@homestudija.lt
SUMMARY:HIP HOP WORKSHOPS SU KARINA
DESCRIPTION:Pavasariui jau šviečiant į langus\, skelbiame paskutinę šio sezono Home studijos viešnią – Kariną! Workshops seriją uždarysime su Hip Hop stiliaus šokėja\, choreografe ir trenere iš Klaipėdos\, kuriai Kauno šokėjai tikrai nėra svetimi. \nREGISTRACIJA \n\n  \nVieta: Home šokių studija | Savanorių pr. 419\, Kaunas \n  \nData: Kovo 22d. (šeštadienis) \n12:00 HIP HOP CHOREO\n13:45 FREESTYLE\n\nKaina: \n1 workshop | 15 eur\n2 workshops | 25 eur\n\n\nRegistracija* į Workshops su Karina užsidarys kovo 18d.: https://forms.gle/KryH6yvZHPaws3UGA\n\n*Registracija laikoma galiojanti\, kai yra sumokama už pamokas. Apmokėti Home studijoje iki kovo 18d.\n\n\n#HOME
URL:https://homestudija.lt/event/hip-hop-workshops-su-karina/
LOCATION:Home šokių studija\, Savanorių pr. 419\, Kaunas\, Lithuania
ATTACH;FMTTYPE=image/jpeg:https://homestudija.lt/wp-content/uploads/2025/02/LIEPA-1-min.jpg
END:VEVENT
BEGIN:VEVENT
DTSTART;TZID=Europe/Vilnius:20250125T120000
DTEND;TZID=Europe/Vilnius:20250125T151500
DTSTAMP:20260421T132854
CREATED:20250102T142202Z
LAST-MODIFIED:20250102T145933Z
UID:305-1737806400-1737818100@homestudija.lt
SUMMARY:WORKSHOPS SU IGNU TAMULIU
DESCRIPTION:Metus pradėkime stipriai su 2024m. Hip Hop IDO pasaulio čempionu Ignu Iguana. Net du workshopai Freestyle ir Choreo\, kuriuose vietų kiekis ribotas\, tad paskubėk ir rezervuok savo vietą. \n  \nRegistracija būtina. Atsiskaityti grynais pas studijos administratorę.
URL:https://homestudija.lt/event/workshops-su-ignu-tamuliu/
LOCATION:Home šokių studija\, Savanorių pr. 419\, Kaunas\, Lithuania
ATTACH;FMTTYPE=image/jpeg:https://homestudija.lt/wp-content/uploads/2025/01/Black-and-Grey-Bold-Simple-Vintage-Photo-Studio-Facebook-Event-Cover-1-min.jpg
END:VEVENT
END:VCALENDAR