BEGIN:VCALENDAR
VERSION:2.0
PRODID:-//HOME šokių studija - ECPv6.9.1//NONSGML v1.0//EN
CALSCALE:GREGORIAN
METHOD:PUBLISH
X-ORIGINAL-URL:https://homestudija.lt
X-WR-CALDESC:HOME šokių studija renginiai
REFRESH-INTERVAL;VALUE=DURATION:PT1H
X-Robots-Tag:noindex
X-PUBLISHED-TTL:PT1H
BEGIN:VTIMEZONE
TZID:Europe/Vilnius
BEGIN:DAYLIGHT
TZOFFSETFROM:+0200
TZOFFSETTO:+0300
TZNAME:EEST
DTSTART:20260329T010000
END:DAYLIGHT
BEGIN:STANDARD
TZOFFSETFROM:+0300
TZOFFSETTO:+0200
TZNAME:EET
DTSTART:20261025T010000
END:STANDARD
END:VTIMEZONE
BEGIN:VEVENT
DTSTART;TZID=Europe/Vilnius:20260604T183000
DTEND;TZID=Europe/Vilnius:20260604T210000
DTSTAMP:20260421T013143
CREATED:20260420T194345Z
LAST-MODIFIED:20260420T194501Z
UID:531-1780597800-1780606800@homestudija.lt
SUMMARY:HOME SEZONO UŽDARYMO ŠVENTĖ
DESCRIPTION:Biržėlio 4d. kviečiame visą Home studijos bendruomenę atšvęsti 2025/2026 metų šokių sezoną! \nDžiaugiamės\, jog per antruosius studijos veiklos metus mus supa virš 350 šokėjų ir artimųjų\, kurie mus stumia judėti tolyn. Šį sezoną dirbome tik dar daugiau\, džiaugėmės stipriau ir šokome dar karščiau\, tad ateina laikas mūsų šokėjų pasirodymais pasidalinti su mūsų studijos bendruomėne. \n  \nStudijos sezono uždarymo šventė: \nBIRŽELIO 4D. (ketvirtadienis)  \n⏳Renginio pradžia 18:30val. \nPabaiga planuojama apie 21:00val. \n📍Žalgirio Arenos Amfiteatras \n🎟️ Bilieto kaina (įsigijus studijoje) xx eur \nRenginio dieną bilieto kaina xx eur \n  \nDaugiau informacijos apie renginio programą visai netrukus. Švęskime drauge jau pirmąją vasaros savaitę. \n  \n#HOME
URL:https://homestudija.lt/event/home-sezono-uzdarymo-svente/
LOCATION:Žalgirio Arenos Amfiteatras\, Karaliaus Mindaugo pr. 50\, Kaunas\, 44334\, Lithuania
ATTACH;FMTTYPE=image/jpeg:https://homestudija.lt/wp-content/uploads/2026/04/Black-and-Purple-Gradient-Facebook-Event-Cover.jpg
END:VEVENT
BEGIN:VEVENT
DTSTART;TZID=Europe/Vilnius:20260629T080000
DTEND;TZID=Europe/Vilnius:20260703T173000
DTSTAMP:20260421T013143
CREATED:20260223T090712Z
LAST-MODIFIED:20260223T090937Z
UID:526-1782720000-1783099800@homestudija.lt
SUMMARY:DIENOS STOVYKLA VAIKAMS KAUNE | Home studija
DESCRIPTION:Jau planuojate savo vasarą? Home šokių studija lauks vaikų nuo 6 metų dienos šokių stovykloje 🤩 \nREGISTRACIJA \n  \nDienos šokių stovykla – tai puiki proga realizuoti save ar išmėginti kažką naujo vasaros atostogų metu ir galbūt prisijaukinti naują hobį ateinantiems mokslo metams. Stovykloje laukiami tiek pažengę\, tiek pradedantieji šokėjai\, kurie nori linksmai praleisti laiką su gera muzika\, puikiu kolektyvu ir bendraamžiais. Šiemet susitiksime net trijose pamanose\, kur turėsime net dvi atskiras programas. \n  \nKas jūsų laukia: \n\n5 dienos aktyvaus užimtumo\nPo vieną šokių pamoką per dieną\nEdukacija apie šokį\, muziką\, meną\nMaitinimas tris kartus dienoje (priešpiečiai\, pietūs ir pavakariai)\nKūrybinės veiklos pagal pasirinktą programą\nApsilankymas pramogų parke ir/ar muziejuje\nStovyklos marškinėliai bei prizai\n\n  \nDatos: \nSTREET DANCE WEEK | Birželio 29d. – liepos 3d. (pirm.-penkt.) 8:00-17:30val. | 20 vietų \nPOP DANCE WEEK | Liepos 6d. – liepos 10d. (pirm.-penkt.) 8:00-17:30val. | 20 vietų \nSTREET DANCE WEEK | Liepos 13d. – liepos 17d. (pirm.-penkt.) 8:00-17:30val. | 20 vietų \n  \nDienos stovyklos kaina iki gegužės 1d. 160 eur/asm.* | Rezervacijos mokestis 60 eurai \nStovyklos kaina po gegužės 1d. 180 eur/asm. \n*Šeimos nuolaida – dalyvaujant dviems ar daugiau šeimos nariams\, taikoma 20 eur nuolaida kiekvienam stovyklautojui. \n  \nVieta | Home šokių studija | Savanorių pr. 419\, Kaunas \n  \nRegistracija jau įsibėgėjo! \n\nRegistracija čia\nArba Home šokių studijoje (kreiptis į administratorę)\n\n  \nLauksime tavęs jau šią vasarą kartu kurti prisiminimus! \n  \nHOME SUMMER CAMP 2026 REGISTRACIJA \n  \n#HOME
URL:https://homestudija.lt/event/dienos-stovykla-vaikams-kaune-home-studija/
LOCATION:Home šokių studija\, Savanorių pr. 419\, Kaunas\, Lithuania
ATTACH;FMTTYPE=image/jpeg:https://homestudija.lt/wp-content/uploads/2026/02/Black-and-Yellow-Grunge-Music-Festival-Flyer-1920-x-1080-px.jpg
END:VEVENT
BEGIN:VEVENT
DTSTART;TZID=Europe/Vilnius:20260727T113000
DTEND;TZID=Europe/Vilnius:20260802T163000
DTSTAMP:20260421T013143
CREATED:20260223T082459Z
LAST-MODIFIED:20260223T082459Z
UID:523-1785151800-1785688200@homestudija.lt
SUMMARY:HOME SUMMER CAMP 2026 | 07/27-08/02
DESCRIPTION:You are not ready! Home Summer Camp 2026 jau visai netrukus..\nBelaukiant vasaros būk užtikrintas\, kad turėsi vietą Home Camp! Šiemet stovykloje bus tik dar daugiau šokių\, tobulėjimo ir choreografų\, kurie dalinsis patirtimi įvairausiuose gatvės šokių stiliuose. You won’t believe what a line up is waiting…\nREGISTRACIJA JAU PRASIDĖJO\n  \nHome Summer Camp – Tai gatvės šokių stovykla\, kurioje susirinks tarptautiniai Hip Hop\, Afro\, Popping ir House šokių stilių mokytojai pasidalinti savo patirtimi bei įpūsti motyvacijos prieš naują šokių sezoną. \n  \nKada? \n2026m. Liepos 27d. – rugpjūčio 2d. (pirmadienį-sekmadienį) \n  \nKur? \nSadauskų sodyba | Jurbarko pl. 351\, Antalkių km.\, Kauno r. \n  \nKas tavęs laukia? \n> 2/3 šokių pamokos per dieną \n> 8 šokių mokytojai iš Lietuvos ir užsienio // paskelbsime netrukus \n> Šokių kovos ir kiti renginiai (šiemet šoksime daug) \n> Apgyvendinimas su visais patogumais \n> Maitinimas 5 kartus per dieną \n> Stovyklos marškinėliai \n>Lauko pramogos ir puikus laikas su šokėjų bendruomene \n  \nKiek? \nStovyklos kaina* iki gegužės 1d. | 440 eur/asm. \nStovyklos kaina* po gegužės 1d. | 470 eur/asm. \n*Šeimos nariams taikoma 30 eur nuolaida kiekvienam.  \n  \nDienos pasas | 75 eur \n2 x pamokų kaina | 55 eur \nPamokos kaina | 30 eur \nRegistracija bus paskelbta po borželio 1d.  \n  \nKaip? \nRegistracija į Home Summer Camp jau prasidėjo! Čiupk kol kaina nepabrango iki gegužės 1d. \n  \nStovykla atvira visiems šokėjams nuo 8 metų\, jaučiantiems meilę gatvės šokiams ir jų kultūrai. Sukurkime nepamirštamą šokių vasarą su Home! Vaikus nuo 7 m. kviečiame į Day at Home dienos šokių stovyklą. Daugiau informacijos rasi čia. \n  \nPasimatome liepos 27d.! \n  \n#HOME \n  \nTuri klausimų? \nTel. +37069388889 \ninfo@homestudija.lt
URL:https://homestudija.lt/event/home-summer-camp-2026-07-27-08-02/
LOCATION:Sadauskų Sodyba\, Jurbarko pl. 351\, Antalkių km.\, Kauno r.\, 54217\, Lithuania
ATTACH;FMTTYPE=image/jpeg:https://homestudija.lt/wp-content/uploads/2026/02/HOME-CAMP-2026-WEB-1-1.jpg
END:VEVENT
END:VCALENDAR