BEGIN:VCALENDAR
VERSION:2.0
PRODID:-//HOME šokių studija - ECPv6.9.1//NONSGML v1.0//EN
CALSCALE:GREGORIAN
METHOD:PUBLISH
X-WR-CALNAME:HOME šokių studija
X-ORIGINAL-URL:https://homestudija.lt
X-WR-CALDESC:HOME šokių studija renginiai
REFRESH-INTERVAL;VALUE=DURATION:PT1H
X-Robots-Tag:noindex
X-PUBLISHED-TTL:PT1H
BEGIN:VTIMEZONE
TZID:Europe/Vilnius
BEGIN:DAYLIGHT
TZOFFSETFROM:+0200
TZOFFSETTO:+0300
TZNAME:EEST
DTSTART:20250330T010000
END:DAYLIGHT
BEGIN:STANDARD
TZOFFSETFROM:+0300
TZOFFSETTO:+0200
TZNAME:EET
DTSTART:20251026T010000
END:STANDARD
BEGIN:DAYLIGHT
TZOFFSETFROM:+0200
TZOFFSETTO:+0300
TZNAME:EEST
DTSTART:20260329T010000
END:DAYLIGHT
BEGIN:STANDARD
TZOFFSETFROM:+0300
TZOFFSETTO:+0200
TZNAME:EET
DTSTART:20261025T010000
END:STANDARD
END:VTIMEZONE
BEGIN:VEVENT
DTSTART;TZID=Europe/Vilnius:20260124T120000
DTEND;TZID=Europe/Vilnius:20260124T163000
DTSTAMP:20260421T064250
CREATED:20251216T113037Z
LAST-MODIFIED:20251216T115507Z
UID:510-1769256000-1769272200@homestudija.lt
SUMMARY:GABI AT HOME
DESCRIPTION:Jau sausio 24d. Home studijoje laukia tikra Hip Hop šventė!\n\n\n2026 metus pradėkime grįžtant atgal į gatvės šokių istoriją ir pagrindus  Šį kartą Home aplankys Gabija ir į Kauną atneš dalelę Hip Hop kultūros \n\n\nIlgus metus patirtį kaupusi Lietuvoje bei užsienyje Gabija yra suorganizavusi ne vieną renginį\, skirtą gatvės šokių kultūros populiarinimui  Deganti kultūra ir meile Hip Hop\, Popping bei kitiems gatvės stiliams mokytoja lauks tiek pradedančiųjų\, tiek pažengusių šokėjų\, mylinčių Hip Hop ir jo istoriją \n\n\n\n Sausio 24d. (Šeštadienis)\n\n\nHome šokių studija | Savanorių Pr. 419\, Kaunas\n\n\n\n 12:00-13:30val. Hip Hop Workshop\n Kaina 15€\n\n\n\n 14:00-16:30val. Hip Hop History Session\n Kaina 10€ + donation\n\n\n\nWorkshop & History session\n Kaina 20€ + donation\n\n\n\nKviečiame visus Kauno šokėjus pasinerti į Hip Hop istoriją\, kur atgaivinsime jau turimas žinias ir įgysime naujų \n\n\n\nRegistracija  \n\n\n\nKaunas! Let’s go back to basics \n\n\n\n#home #hiphop #kaunas #hiphophistory
URL:https://homestudija.lt/event/gabi-at-home/
LOCATION:Home šokių studija\, Savanorių pr. 419\, Kaunas\, Lithuania
ATTACH;FMTTYPE=image/jpeg:https://homestudija.lt/wp-content/uploads/2025/12/Black-and-Orange-Urban-Magazine-Cover-1920-x-1080-px-min.jpg
END:VEVENT
BEGIN:VEVENT
DTSTART;TZID=Europe/Vilnius:20251122T140000
DTEND;TZID=Europe/Vilnius:20251122T203000
DTSTAMP:20260421T064250
CREATED:20251013T064950Z
LAST-MODIFIED:20251119T160924Z
UID:497-1763820000-1763843400@homestudija.lt
SUMMARY:HOME BATTLES | vol. 2
DESCRIPTION:Get ready for Home Battles vol. 2 \n\n\nPo metų Home Battles grįžta\, kad sukurti gatvės šokių bendruomenės šventę Kaune  Net 8 šokių kategorijos\, skirtingos amžiaus ir lygio grupės\, kad išrinktume 2025 metų stipriausią solistą!\n\n\nKada? Lapkričio 22d. | Šeštadienis\nReginys bus skirtas į dvi dalis pagal kategorijas.\n\nDurys atidaromos 13:45val.\n\nPART I 14:30val.\nPop Dance kategorijos\n\nPART II 17:00val. \nHip Hop kategorijos\n\nPabaiga planuojama 19:30val.\n\n\nKategorijos:\n Hip Hop Junior div. | Advanced & Beginners\n Hip Hop Upper div. | Open\n Pop Dance Junior div. | Advanced & Beginners\n Pop Dance Upper div. | Open\n\n\n\nDalyvio mokestis:\n 5€ Home studijos nariams\n 10€ svečiams\n\n\n\n Laimėtojai bus apdovanoti medaliais ir dovanomis. Hip Hop ir Pop Dance Upper kategorijose laimėtojo lauks pagrindinis prizas Knock 100 eur dovanu kuponas!\n\n\n\nŽiūrovams renginys nemokamas \n\n\n\nRegistracija ČIA\n\n\nPROGRAMA\n\n\n\n\n\nSee ya at Home \n\n#HOME
URL:https://homestudija.lt/event/home-battles-vol-2/
LOCATION:Home šokių studija\, Savanorių pr. 419\, Kaunas\, Lithuania
ATTACH;FMTTYPE=image/jpeg:https://homestudija.lt/wp-content/uploads/2025/10/Black-Gray-Grunge-Graffiti-Style-Modern-Coming-Soon-Instagram-Post-1920-x-1080-px-min.jpg
END:VEVENT
BEGIN:VEVENT
DTSTART;TZID=Europe/Vilnius:20251107T000000
DTEND;TZID=Europe/Vilnius:20251108T235959
DTSTAMP:20260421T064250
CREATED:20250817T151200Z
LAST-MODIFIED:20250817T151200Z
UID:462-1762473600-1762646399@homestudija.lt
SUMMARY:ATRANKOS Į V_ONE
DESCRIPTION:Prisijunk prie V_One komandos 2025/2026 sezonui!\nŠį sezoną V_One ieškos stipriausių 12-15m. šokėjų\, kurie yra pasiruošę kartu lipti ant didžiausių šokių scenų  Jei tai tu – lauksime tavęs atrankose jau lapkričio 7d.\n\nTrenerio Valdo komanda V_One 2025 metais tapo Lietuvos Hip-Hop čempionais bei pelnė 3 vietą WOD Poland varžybose Krokuvoje. alkani pergalių\, V_One ieško pastiprinimo\, kad žengtų į naują sezoną su dar didesne jėga. Prisijunk!\n\nAtrankos nemokamos ir atviros visiems norintiems \n\nLapkričio 7d. 16:00-18:00val.\nLapričio 8d. 10:00-12:00val.\nSavanorių Pr. 419\, Home šokių studija\n\nRegistracija naujiems nariams homestudija.lt/registracija\n\nBe ready to dance!\n\n#HOME
URL:https://homestudija.lt/event/atrankos-i-v_one/
LOCATION:Home šokių studija\, Savanorių pr. 419\, Kaunas\, Lithuania
ATTACH;FMTTYPE=image/jpeg:https://homestudija.lt/wp-content/uploads/2025/08/Atrankos-i-V-One-komanda-lapkricio-7-8d.jpg
END:VEVENT
BEGIN:VEVENT
DTSTART;TZID=Europe/Vilnius:20251107T000000
DTEND;TZID=Europe/Vilnius:20251108T235959
DTSTAMP:20260421T064250
CREATED:20250817T150217Z
LAST-MODIFIED:20250817T150251Z
UID:458-1762473600-1762646399@homestudija.lt
SUMMARY:ATRANKOS Į V-TEAM
DESCRIPTION:Ar svajoji šokti su Lietuvos čempionų komanda? Išbandyk jėgas V-Team atrankose!\nVos grįžę iš IDO pasaulio čempionato Slovenijoje\, V-Team kvies šokėjus į 2025/2026 sezono atrankas jau lapkričio 8d.  \n\nV-Team komandos jau nereikia pristatinėti – tai komanda\, kurios vardą šokėjai neša nuo 2008m. Skirtingos V-Team kartos net 10 kartų buvo Lietuvos Hip-Hop čempionai\, 2017m. pelnę ir IDO pasaulio čempionato bronzos medaliu Danijoje.\n\nTrenerio Valdo komanda kasmet sau kelia vis didesnius tikslus\, iššūkius ir lieja vis daugiau prakaito namų salėje\, kad į aikštelę atėjus niekas neliktų abejingi.\n\n\nAtrankos nemokamos ir atviros visiems norintiems \nLapkričio 7d. 18:00-20:00val.\nLapkričio 8d. 12:00-14:00val.\nSavanorių Pr. 419\, Home šokių studija\n\nRegistracija naujiems nariams homestudija.lt/registracija\n\nGet ready!\n\n#HOME
URL:https://homestudija.lt/event/atrankos-i-v-team/
LOCATION:Home šokių studija\, Savanorių pr. 419\, Kaunas\, Lithuania
ATTACH;FMTTYPE=image/jpeg:https://homestudija.lt/wp-content/uploads/2025/08/Atrankos-i-V-Team-lapkricio-7-8d.jpg
END:VEVENT
BEGIN:VEVENT
DTSTART;TZID=Europe/Vilnius:20250906T130000
DTEND;TZID=Europe/Vilnius:20250906T150000
DTSTAMP:20260421T064250
CREATED:20250817T144511Z
LAST-MODIFIED:20250817T144511Z
UID:455-1757163600-1757170800@homestudija.lt
SUMMARY:ATRANKOS Į F.A.N
DESCRIPTION:Jau rugsėjo 6d. išdrįsk šokti su ryškiausiomis Fem Style šokėjomis Home studijoje\n\nF.A.N – tai merginų komanda\, siekianti iššūkių didžiausiose Lietuvos šokius scenose bei užsienyje \n\nTrenerė Eivina jau juo rugsėjo formuos naująjį FAN sąstatą 2025/2026 sezonui\, tad išbandyk savo jėgas ir šok su FAN \n\nAtrankos nemokamos ir atviros visiems norintiems nuo 15m.  \n\nRugsėjo 6d. 13:00-15:00val.Savanorių Pr. 419\, Home šokių studija\n\nRegistracija naujiems nariams homestudija.lt/registracija\n\nIki susitikimo šokių aikštelėje \n\n#HOME
URL:https://homestudija.lt/event/atrankos-i-f-a-n/
LOCATION:Home šokių studija\, Savanorių pr. 419\, Kaunas\, Lithuania
ATTACH;FMTTYPE=image/jpeg:https://homestudija.lt/wp-content/uploads/2025/08/Atrankos-i-FAN-komanda-rugsejo-6d.jpg
END:VEVENT
BEGIN:VEVENT
DTSTART;TZID=Europe/Vilnius:20250905T160000
DTEND;TZID=Europe/Vilnius:20250905T180000
DTSTAMP:20260421T064250
CREATED:20250818T192643Z
LAST-MODIFIED:20250818T193953Z
UID:467-1757088000-1757095200@homestudija.lt
SUMMARY:ATRANKOS Į HOMIES
DESCRIPTION:Pauly skelbia atrankas į savo Hip Hop Juniors komandą Homies jau rugsėjo 5d.\nPraėjusį sezoną susibūrusi Hip Hop Juniors komanda Homies šį rudenį vyksta į IDO pasaulio čempionatą Slovenijoje\, kur atstovaus Lietuvai ir Home šokių studijai. Kad būti pasiruošus 2025/2026 metų sezono varžyboms\, jau rugsėjo 5d. trenerė Paulina kviečia pažengusius Hip Hop šokėjus išbandyti savo jėgas atrankose į ateinančio sezono sąstatą. \nAtrankos nemokamos ir atviros visiems norintiems 11-15m. šokėjams \n\nRugsėjo 5d. 16:00-18:00val.\nSavanorių Pr. 419\, Home šokių studija\n\nRegistracija naujiems nariams homestudija.lt/registracija\n\nLet’s dance!\n\n#HOME
URL:https://homestudija.lt/event/atrankos-i-homies/
LOCATION:Home šokių studija\, Savanorių pr. 419\, Kaunas\, Lithuania
ATTACH;FMTTYPE=image/jpeg:https://homestudija.lt/wp-content/uploads/2025/08/Atrankos-i-Homies-rugsejo-5d.jpg
END:VEVENT
BEGIN:VEVENT
DTSTART;TZID=Europe/Vilnius:20250902T170000
DTEND;TZID=Europe/Vilnius:20250930T170000
DTSTAMP:20260421T064250
CREATED:20250818T201704Z
LAST-MODIFIED:20250818T201704Z
UID:471-1756832400-1759251600@homestudija.lt
SUMMARY:ŠOKIŲ PAMOKOS ALEKSOTE | Veiverių g. 151
DESCRIPTION:Naujas šokių sezonas Kaune prasideda nuo rugsėjo 2 d. – registracija jau vyksta!\nAr esi pasiruošęs pradėti šį rugsėjį šokio aikštelėje? \nIeškai šokių studijos Kaune\, kurioje galėtum atrasti ar tęsti savo meilę šokiui? Nuo rugsėjo 2 dienos kviečiame visus – nuo mažiausių iki suaugusiųjų – į naująjį HOME šokių studijos sezoną! \nNuo 2025m. šokių pamokos vyks net dviejose patogiose vietose:📍 Savanorių pr. 419\, Kaunas📍 Veiverių g. 151\, Kaunas \n\nHome studijoje jūsų lauks šie šokių stiliai:\n💥 Gatvės šokiai (Street Dance) – Hip Hop ir Urban šokių pamokos ir improvizacija (freestyle).🎧 Pop Dance – šiuolaikiniai ritmai\, populeri muzika ir moteriška energija.🌴 Dancehall – laisvas\, ritmingas ir energingas stilius iš Jamaikos kultūros. \n\nŠokių pamokų amžiaus grupės:\nŠokių pamokas vedame įvairioms amžiaus grupėms – kiekvienas čia ras sau tinkamą lygį ir tempą: \n\n\nŠokiai mažyliams (4–7 m.) – žaidimo forma paremtos šokio pamokėlės\, judesio koordinacija ir puikiai praleistas laikas su bendraamžiais ir profesionaliomis mokytojomis. \n\n\nŠokių pamokos vaikams (7–11 m.) – šokio pagrindai\, ritmas\, kūrybiškumo lavinimas ir pasirodymai konkursuose. \n\n\nUžsiėmimai paaugliams (12–15 m.) – intensyvesnės treniruotės\, choreografija ir savo unikalaus stiliaus paieškos kartu su komanda. \n\n\nŠokiai jaunimui (nuo 16 m.) – tikslingas tobulėjimas\, scenos patirtis\, saviraiška ar tiesiog hobis po pamokų ar studijų. \n\n\nŠokių pamokos suaugusiems (nuo 20 m.) – šokiai kaip alternatyva aktyviam laisvalaikiui ar sportui\, puikus laikas su bendraminčiais pagal šiuolaikiškos muzikos ritmus. \n\n\n\nKodėl verta rinktis HOME šokių studiją Kaune?\n✅ Profesionalūs šokių mokytojai su patirtimi\, mokant įvairaus amžiaus ir lygio grupes. \n✅ Draugiška\, įkvepianti aplinka\, kurioje kiekvienas jaučiasi priimtas. \n✅ Galimybė rinktis sau artimiausią lokaciją: Savanorių pr. 419 arba Veiverių g. 151. \n✅ Lankstūs tvarkaraščiai ir grupės pradedantiesiems bei pažengusiems. \n✅ Puikus būdas aktyviai ir smagiai praleisti laiką. \nRegistracija į šokių pamokas jau prasidėjo!\n🗓 Sezono pradžia: 2025 m. rugsėjo 2 d.📍 Adresas: Savanorių pr. 419 ir Veiverių g. 151\, Kaunas📩 Registruokis dabar \n\nPamokų tvarkaraštis Veiverių g. 151\n \n\nAtrask savo šokių namus – šok su HOME! \nŠokiai – tai ne tik judesys\, bet ir emocijos\, pasitikėjimas savimi bei ryšys su kitais. Jei ieškai\, kur šokti Kaune vaikams\, paaugliams ar suaugusiems\, HOME šokių studija laukia tavęs! Atrask\, tobulėk ir mėgaukis kiekvienu žingsniu. \n  \nTuri klausimų? Susisiek! \nTel. nr. +37069388889\nEl.p. info@homestudija.lt \n  \nSek mūsų kelionę socialiniuose tinkluose: \nInstagram | @home_studija \nFacebook | Home šokių studija \nTik Tok | @home_studija
URL:https://homestudija.lt/event/sokiu-pamokos-aleksote-veiveriu-g-151/
LOCATION:Home studija Aleksotas\, Veiverių g. 151\, Kaunas\, Lithuania
ATTACH;FMTTYPE=image/jpeg:https://homestudija.lt/wp-content/uploads/2025/08/Sokiu-pamokos-Aleksote-Home-Studija.jpg
END:VEVENT
BEGIN:VEVENT
DTSTART;TZID=Europe/Vilnius:20250902T000000
DTEND;TZID=Europe/Vilnius:20250930T235959
DTSTAMP:20260421T064250
CREATED:20250806T202246Z
LAST-MODIFIED:20250806T202332Z
UID:434-1756771200-1759276799@homestudija.lt
SUMMARY:Naujas šokių sezonas | Home šokių studija
DESCRIPTION:Naujas šokių sezonas Kaune prasideda nuo rugsėjo 2 d. – registracija jau vyksta!\nAr esi pasiruošęs pradėti šį rugsėjį šokio aikštelėje? \nIeškai šokių studijos Kaune\, kurioje galėtum atrasti ar tęsti savo meilę šokiui? Nuo rugsėjo 2 dienos kviečiame visus – nuo mažiausių iki suaugusiųjų – į naująjį HOME šokių studijos sezoną! \nNuo 2025m. šokių pamokos vyks net dviejose patogiose vietose:📍 Savanorių pr. 419\, Kaunas📍 Veiverių g. 151\, Kaunas \n\nHome studijoje jūsų lauks šie šokių stiliai:\n💥 Gatvės šokiai (Street Dance) – Hip Hop ir Urban šokių pamokos ir improvizacija (freestyle).🎧 Pop Dance – šiuolaikiniai ritmai\, populeri muzika ir moteriška energija.🌴 Dancehall – laisvas\, ritmingas ir energingas stilius iš Jamaikos kultūros. \n\nŠokių pamokų amžiaus grupės:\nŠokių pamokas vedame įvairioms amžiaus grupėms – kiekvienas čia ras sau tinkamą lygį ir tempą: \n\n\nŠokiai mažyliams (4–7 m.) – žaidimo forma paremtos šokio pamokėlės\, judesio koordinacija ir puikiai praleistas laikas su bendraamžiais ir profesionaliomis mokytojomis. \n\n\nŠokių pamokos vaikams (7–11 m.) – šokio pagrindai\, ritmas\, kūrybiškumo lavinimas ir pasirodymai konkursuose. \n\n\nUžsiėmimai paaugliams (12–15 m.) – intensyvesnės treniruotės\, choreografija ir savo unikalaus stiliaus paieškos kartu su komanda. \n\n\nŠokiai jaunimui (nuo 16 m.) – tikslingas tobulėjimas\, scenos patirtis\, saviraiška ar tiesiog hobis po pamokų ar studijų. \n\n\nŠokių pamokos suaugusiems (nuo 20 m.) – šokiai kaip alternatyva aktyviam laisvalaikiui ar sportui\, puikus laikas su bendraminčiais pagal šiuolaikiškos muzikos ritmus. \n\n\n\nKodėl verta rinktis HOME šokių studiją Kaune?\n✅ Profesionalūs šokių mokytojai su patirtimi\, mokant įvairaus amžiaus ir lygio grupes. \n✅ Draugiška\, įkvepianti aplinka\, kurioje kiekvienas jaučiasi priimtas. \n✅ Galimybė rinktis sau artimiausią lokaciją: Savanorių pr. 419 arba Veiverių g. 151. \n✅ Lankstūs tvarkaraščiai ir grupės pradedantiesiems bei pažengusiems. \n✅ Puikus būdas aktyviai ir smagiai praleisti laiką. \nRegistracija į šokių pamokas jau prasidėjo!\n🗓 Sezono pradžia: 2025 m. rugsėjo 2 d.📍 Adresas: Savanorių pr. 419 ir Veiverių g. 151\, Kaunas📩 Registruokis dabar \n\nPamokų tvarkaraščiai Savanorių pr. 419\n  \n\nPamokų tvarkaraštis Veiverių g. 151\n \n\nAtrask savo šokių namus – šok su HOME! \nŠokiai – tai ne tik judesys\, bet ir emocijos\, pasitikėjimas savimi bei ryšys su kitais. Jei ieškai\, kur šokti Kaune vaikams\, paaugliams ar suaugusiems\, HOME šokių studija laukia tavęs! Atrask\, tobulėk ir mėgaukis kiekvienu žingsniu. \n  \nTuri klausimų? Susisiek! \nTel. nr. +37069388889\nEl.p. info@homestudija.lt \n  \nSek mūsų kelionę socialiniuose tinkluose: \nInstagram | @home_studija \nFacebook | Home šokių studija \nTik Tok | @home_studija
URL:https://homestudija.lt/event/naujas-sokiu-sezonas-home-sokiu-studija-savanoriu-pr/
LOCATION:Home šokių studija\, Savanorių pr. 419\, Kaunas\, Lithuania
ATTACH;FMTTYPE=image/jpeg:https://homestudija.lt/wp-content/uploads/2025/08/Blue-City-Buildings-Facebook-Cover-min.jpg
END:VEVENT
BEGIN:VEVENT
DTSTART;TZID=Europe/Vilnius:20250728T110000
DTEND;TZID=Europe/Vilnius:20250803T160000
DTSTAMP:20260421T064250
CREATED:20250221T081644Z
LAST-MODIFIED:20250707T084301Z
UID:340-1753700400-1754236800@homestudija.lt
SUMMARY:HOME DANCE CAMP 2025
DESCRIPTION:It’s out!!! \nHOME CAMP 2025 | 07/28 – 08/03 \nRegistracija nuo kovo 3d. Home studijoje \nPirmąjį Home studijos sezoną šią vasarą uždarys Home Camp 2025! Kas tai? Tai gatvės šokių stovykla\, kurioje susirinks tarptautiniai Hip Hop\, Afro ir Dancehall šokių stilių mokytojai pasidalinti savo patirtimi bei įpūsti motyvacijos prieš naują 2025/2026 metų šokių sezoną. \nKada? \n2025m. Liepos 28d. – rugpjūčio 3d. \n  \nKur? \nSadauskų sodyba | Jurbarko pl. 351\, Antalkių km.\, Kauno r. \n  \nKas tavęs laukia? \n> 18 šokių pamokų per 7 dienas \n> 8 šokių mokytojai iš Lietuvos ir užsienio // paskelbsime netrukus \n> Šokių kovos ir kiti renginiai \n> Apgyvendinimas su visais patogumais \n> Maitinimas 5 kartus per dieną \n> Stovyklos marškinėliai \n> Lauko pramogos ir puikus laikas su bendraminčiais \n \n \nKiek? \nStovyklos kaina* | 420 eur/asm. \n*Šeimos nariams taikoma 20 eur nuolaida.  \nDienos pasas | 50 eur \nPamokos kaina | 25eur \n  \nKaip? \nRegistracija į Home Summer Camp jau baigėsi\, bet lauksime jūsų atvykstant dienai. \nDAY PASS REGISTRACIJA. \n \nStovykla atvira visiems šokėjams nuo 8 metų\, jaučiantiems meilę gatvės šokiams ir jų kultūrai. Sukurkime nepamirštamą šokių vasarą su Home! Vaikus nuo 7 m. kviečiame į Day at Home dienos šokių stovyklą. Daugiau informacijos rasi čia \n  \nMes jau rezervavome savo vietą\, o tu? \n  \n#HOME \n  \nTuri klausimų? \nTel. +37069388889 \ninfo@homestudija.lt
URL:https://homestudija.lt/event/home-dance-camp-2025/
LOCATION:Sadauskų Sodyba\, Jurbarko pl. 351\, Antalkių km.\, Kauno r.\, 54217\, Lithuania
ATTACH;FMTTYPE=image/jpeg:https://homestudija.lt/wp-content/uploads/2025/02/Black-and-Green-Urban-Streetwear-Fashion-Flash-Sale-Flyer-1920-x-1080-px-min.jpg
END:VEVENT
BEGIN:VEVENT
DTSTART;TZID=Europe/Vilnius:20250714T080000
DTEND;TZID=Europe/Vilnius:20250718T173000
DTSTAMP:20260421T064250
CREATED:20250221T082022Z
LAST-MODIFIED:20250603T064005Z
UID:345-1752480000-1752859800@homestudija.lt
SUMMARY:DAY AT HOME | Dienos šokių stovykla 2025 | II pamaina
DESCRIPTION:Jau planuojate savo vasarą? Home šokių studija lauks vaikų nuo 6 metų dienos šokių stovykloje Savanorių prospekte 🤩 \nREGISTRACIJA \nDienos šokių stovykla – tai puiki proga realizuoti save ar išmėginti kažką naujo vasaros atostogų metu ir galbūt prisijaukinti naują hobį ateinantiems mokslo metams. Stovykloje laukiami tiek pažengę\, tiek pradedantieji šokėjai\, kurie nori linksmai praleisti laiką su gera muzika\, puikiu kolektyvu ir bendraamžiais. \n \nKas jūsų laukia: \n\n5 dienos aktyvaus užimtumo\nNet po 2 šokių pamokas per dieną\nEdukacija apie šokius ir sveiką judesį vaikams\nMaitinimas tris kartus dienoje (priešpiečiai\, pietūs ir pavakariai)\nKūrybinės veiklos\nApsilankymas pramogų parke\nStovyklos marškinėliai\n\n  \n2025 metais jūsų lauksime net dvejose pamainose: \nBirželio 30d. – liepos 3d. (pirm.-penkt.) 8:00-17:30val. | 20 vietų \nLiepos 14d. – liepos 18d. (pirm.-penkt.) 8:00-17:30val. | 20 vietų \n  \nDienos stovyklos kaina 150 eur/asm.* | Rezervacijos mokestis 50 eurai \n*Šeimos nuolaida – dalyvaujant dviems ar daugiau šeimos nariams\, taikoma 20 eur nuolaida kiekvienam stovyklautojui. \n  \nVieta | Home šokių studija | Savanorių pr. 419\, Kaunas \n  \nRegistracija prasidėjo: \n\nRegistracija | https://forms.gle/axhgipwRK5TWpyfB9\nArba Home šokių studijoje (kreiptis į administratorę)\n\n  \nLauksime tavęs jau šią vasarą kartu kurti prisiminimus! \n  \n#HOME
URL:https://homestudija.lt/event/day-at-home-dienos-sokiu-stovykla-2025-ii-pamaina/
LOCATION:Home šokių studija\, Savanorių pr. 419\, Kaunas\, Lithuania
ATTACH;FMTTYPE=image/jpeg:https://homestudija.lt/wp-content/uploads/2025/02/DAY-AT-1-min-1.jpg
END:VEVENT
BEGIN:VEVENT
DTSTART;TZID=Europe/Vilnius:20250630T080000
DTEND;TZID=Europe/Vilnius:20250704T170000
DTSTAMP:20260421T064250
CREATED:20250210T123433Z
LAST-MODIFIED:20250415T172206Z
UID:326-1751270400-1751648400@homestudija.lt
SUMMARY:DAY AT HOME | Dienos šokių stovykla 2025
DESCRIPTION:Jau planuojate savo vasarą? Home šokių studija lauks vaikų nuo 6 metų dienos šokių stovykloje Savanorių prospekte 🤩 \nREGISTRACIJA \nDienos šokių stovykla – tai puiki proga realizuoti save ar išmėginti kažką naujo vasaros atostogų metu ir galbūt prisijaukinti naują hobį ateinantiems mokslo metams. Stovykloje laukiami tiek pažengę\, tiek pradedantieji šokėjai\, kurie nori linksmai praleisti laiką su gera muzika\, puikiu kolektyvu ir bendraamžiais. \n \nKas jūsų laukia: \n\n5 dienos aktyvaus užimtumo\nNet po 2 šokių pamokas per dieną\nEdukacija apie šokius ir sveiką judesį vaikams\nMaitinimas tris kartus dienoje (priešpiečiai\, pietūs ir pavakariai)\nKūrybinės veiklos\nApsilankymas pramogų parke\nStovyklos marškinėliai\n\n  \n2025 metais jūsų lauksime net dvejose pamainose: \nBirželio 30d. – liepos 3d. (pirm.-penkt.) 8:00-17:30val. | 20 vietų \nLiepos 14d. – liepos 18d. (pirm.-penkt.) 8:00-17:30val. | 20 vietų \n  \nDienos stovyklos kaina 150 eur/asm.* | Rezervacijos mokestis 50 eurai \n*Šeimos nuolaida – dalyvaujant dviems ar daugiau šeimos nariams\, taikoma 20 eur nuolaida kiekvienam stovyklautojui. \n  \nVieta | Home šokių studija | Savanorių pr. 419\, Kaunas \n  \nRegistracija jau įsibėgėjo! \n\nRegistracija | https://forms.gle/axhgipwRK5TWpyfB9\nArba Home šokių studijoje (kreiptis į administratorę)\n\n  \nLauksime tavęs jau šią vasarą kartu kurti prisiminimus! \n  \n#HOME
URL:https://homestudija.lt/event/day-at-home-dienos-sokiu-stovykla-2025/
LOCATION:Home šokių studija\, Savanorių pr. 419\, Kaunas\, Lithuania
ATTACH;FMTTYPE=image/jpeg:https://homestudija.lt/wp-content/uploads/2025/02/DAY-AT-1-min-1.jpg
END:VEVENT
BEGIN:VEVENT
DTSTART;TZID=Europe/Vilnius:20250619T173000
DTEND;TZID=Europe/Vilnius:20250619T210000
DTSTAMP:20260421T064250
CREATED:20250512T213534Z
LAST-MODIFIED:20250512T214535Z
UID:365-1750354200-1750366800@homestudija.lt
SUMMARY:HOME ŠOKIŲ STUDIJA | 1-asis gimtadienis
DESCRIPTION:Ar galite patikėti? Jau birželio 19d. švęsime pirmąjį studijos gimtadienį!  \nĮsisukus į varžybų maratoną bei besidžiaugdami puikiais komandų ir šokėjų rezultatais\, net nepajutome\, kaip apsisuko 365 dienos nuo pirmųjų šokių pamokų Home šokių studijoje. Esame dėkingi ir kupini noro atšvęsti šią įsimintiną šventę su mūsų šokių bendruomene. \n  \nBirželio 19d. (ketvirtadienį) lauksime visų mūsų šokėjų\, artimųjų bei studijos draugų kartu paminėti pirmuosius metus ir būti mūsų istorijos dalimi. Renginyje jūsų lauks Home komandų pasirodymai\, gimtadienio tortas ir daug gerų emocijų! \n  \n📍 Romuvos Kino Teatras | Laisvės al. 54 \nDurys atidaromos 17:30val. | Lauksime visų užpūsti gimtadienio žvakes \nRenginio pradžia 18:30val. \nRenginio pabaiga 21:00val.  \n  \n🎟️ Renginio bilietas 12 eur (reikalingas šokėjams bei žiūrovams) \nBilietus įsigyti studijoje nuo gegužės 26d. iki birželio 17d. pas studijos administratorę. Renginio dieną bilieto kaina bus 15eur. \n  \nKartu išlydėkime 2024/2025 metų sezoną\, pasitikime vasarą ir pasidžiaukime pirmaisiais Šokių Namų metais. \n  \nIki susitikimo birželio 19d.! \n  \n#HOME \nValdas\, Justina\, Eivina ir Greta
URL:https://homestudija.lt/event/home-studijos-1-asis-gimtadienis/
LOCATION:Romuvos kino teatras\, Laisvės al. 54\, Kaunas\, Lithuania
ATTACH;FMTTYPE=image/jpeg:https://homestudija.lt/wp-content/uploads/2025/05/Black-and-White-Minimalist-Coming-Soon-Instagram-Post-1080-x-1350-px-1920-x-1080-px-min.jpg
END:VEVENT
BEGIN:VEVENT
DTSTART;TZID=Europe/Vilnius:20250607T130000
DTEND;TZID=Europe/Vilnius:20250607T143000
DTSTAMP:20260421T064250
CREATED:20250512T214429Z
LAST-MODIFIED:20250512T214429Z
UID:370-1749301200-1749306600@homestudija.lt
SUMMARY:CHOREO WORKSHOPS SU PAULY
DESCRIPTION:Ar jau pasiilgote choreo classes su Pauly? Vasarą jau tradiciškai pradedame su studijos trenere Paulina ir skelbiame paskutinius Home workshops šį sezoną. \nREGISTRACIJA \n\n  \nVieta: Home šokių studija | Savanorių pr. 419\, Kaunas \n  \nData: Birželio 7d. (šeštadienis) \n\n13:00 CHOREO CLASS\n\nKaina: \nHome studijos nariams | 10 eur\nStudijos svečiams | 15 eur\n\n\nRegistracija* į Workshops su Karina užsidarys birželio 5d.: https://forms.gle/GNLDdACeD8UaP4Wm6\n\n*Registracija laikoma galiojanti\, kai yra sumokama už seminarą. Apmokėti Home studijoje iki birželio 5d.\n\n\n#HOME
URL:https://homestudija.lt/event/choreo-workshops-su-pauly/
LOCATION:Home šokių studija\, Savanorių pr. 419\, Kaunas\, Lithuania
ATTACH;FMTTYPE=image/jpeg:https://homestudija.lt/wp-content/uploads/2025/05/LIEPA-2-min.jpg
END:VEVENT
BEGIN:VEVENT
DTSTART;TZID=Europe/Vilnius:20250322T120000
DTEND;TZID=Europe/Vilnius:20250322T153000
DTSTAMP:20260421T064250
CREATED:20250221T080952Z
LAST-MODIFIED:20250221T080952Z
UID:337-1742644800-1742657400@homestudija.lt
SUMMARY:HIP HOP WORKSHOPS SU KARINA
DESCRIPTION:Pavasariui jau šviečiant į langus\, skelbiame paskutinę šio sezono Home studijos viešnią – Kariną! Workshops seriją uždarysime su Hip Hop stiliaus šokėja\, choreografe ir trenere iš Klaipėdos\, kuriai Kauno šokėjai tikrai nėra svetimi. \nREGISTRACIJA \n\n  \nVieta: Home šokių studija | Savanorių pr. 419\, Kaunas \n  \nData: Kovo 22d. (šeštadienis) \n12:00 HIP HOP CHOREO\n13:45 FREESTYLE\n\nKaina: \n1 workshop | 15 eur\n2 workshops | 25 eur\n\n\nRegistracija* į Workshops su Karina užsidarys kovo 18d.: https://forms.gle/KryH6yvZHPaws3UGA\n\n*Registracija laikoma galiojanti\, kai yra sumokama už pamokas. Apmokėti Home studijoje iki kovo 18d.\n\n\n#HOME
URL:https://homestudija.lt/event/hip-hop-workshops-su-karina/
LOCATION:Home šokių studija\, Savanorių pr. 419\, Kaunas\, Lithuania
ATTACH;FMTTYPE=image/jpeg:https://homestudija.lt/wp-content/uploads/2025/02/LIEPA-1-min.jpg
END:VEVENT
BEGIN:VEVENT
DTSTART;TZID=Europe/Vilnius:20250125T120000
DTEND;TZID=Europe/Vilnius:20250125T151500
DTSTAMP:20260421T064250
CREATED:20250102T142202Z
LAST-MODIFIED:20250102T145933Z
UID:305-1737806400-1737818100@homestudija.lt
SUMMARY:WORKSHOPS SU IGNU TAMULIU
DESCRIPTION:Metus pradėkime stipriai su 2024m. Hip Hop IDO pasaulio čempionu Ignu Iguana. Net du workshopai Freestyle ir Choreo\, kuriuose vietų kiekis ribotas\, tad paskubėk ir rezervuok savo vietą. \n  \nRegistracija būtina. Atsiskaityti grynais pas studijos administratorę.
URL:https://homestudija.lt/event/workshops-su-ignu-tamuliu/
LOCATION:Home šokių studija\, Savanorių pr. 419\, Kaunas\, Lithuania
ATTACH;FMTTYPE=image/jpeg:https://homestudija.lt/wp-content/uploads/2025/01/Black-and-Grey-Bold-Simple-Vintage-Photo-Studio-Facebook-Event-Cover-1-min.jpg
END:VEVENT
END:VCALENDAR