BEGIN:VCALENDAR
VERSION:2.0
PRODID:-//HOME šokių studija - ECPv6.9.1//NONSGML v1.0//EN
CALSCALE:GREGORIAN
METHOD:PUBLISH
X-ORIGINAL-URL:https://homestudija.lt
X-WR-CALDESC:HOME šokių studija renginiai
REFRESH-INTERVAL;VALUE=DURATION:PT1H
X-Robots-Tag:noindex
X-PUBLISHED-TTL:PT1H
BEGIN:VTIMEZONE
TZID:Europe/Vilnius
BEGIN:DAYLIGHT
TZOFFSETFROM:+0200
TZOFFSETTO:+0300
TZNAME:EEST
DTSTART:20260329T010000
END:DAYLIGHT
BEGIN:STANDARD
TZOFFSETFROM:+0300
TZOFFSETTO:+0200
TZNAME:EET
DTSTART:20261025T010000
END:STANDARD
END:VTIMEZONE
BEGIN:VEVENT
DTSTART;TZID=Europe/Vilnius:20260629T080000
DTEND;TZID=Europe/Vilnius:20260703T173000
DTSTAMP:20260420T220143
CREATED:20260223T090712Z
LAST-MODIFIED:20260223T090937Z
UID:526-1782720000-1783099800@homestudija.lt
SUMMARY:DIENOS STOVYKLA VAIKAMS KAUNE | Home studija
DESCRIPTION:Jau planuojate savo vasarą? Home šokių studija lauks vaikų nuo 6 metų dienos šokių stovykloje 🤩 \nREGISTRACIJA \n  \nDienos šokių stovykla – tai puiki proga realizuoti save ar išmėginti kažką naujo vasaros atostogų metu ir galbūt prisijaukinti naują hobį ateinantiems mokslo metams. Stovykloje laukiami tiek pažengę\, tiek pradedantieji šokėjai\, kurie nori linksmai praleisti laiką su gera muzika\, puikiu kolektyvu ir bendraamžiais. Šiemet susitiksime net trijose pamanose\, kur turėsime net dvi atskiras programas. \n  \nKas jūsų laukia: \n\n5 dienos aktyvaus užimtumo\nPo vieną šokių pamoką per dieną\nEdukacija apie šokį\, muziką\, meną\nMaitinimas tris kartus dienoje (priešpiečiai\, pietūs ir pavakariai)\nKūrybinės veiklos pagal pasirinktą programą\nApsilankymas pramogų parke ir/ar muziejuje\nStovyklos marškinėliai bei prizai\n\n  \nDatos: \nSTREET DANCE WEEK | Birželio 29d. – liepos 3d. (pirm.-penkt.) 8:00-17:30val. | 20 vietų \nPOP DANCE WEEK | Liepos 6d. – liepos 10d. (pirm.-penkt.) 8:00-17:30val. | 20 vietų \nSTREET DANCE WEEK | Liepos 13d. – liepos 17d. (pirm.-penkt.) 8:00-17:30val. | 20 vietų \n  \nDienos stovyklos kaina iki gegužės 1d. 160 eur/asm.* | Rezervacijos mokestis 60 eurai \nStovyklos kaina po gegužės 1d. 180 eur/asm. \n*Šeimos nuolaida – dalyvaujant dviems ar daugiau šeimos nariams\, taikoma 20 eur nuolaida kiekvienam stovyklautojui. \n  \nVieta | Home šokių studija | Savanorių pr. 419\, Kaunas \n  \nRegistracija jau įsibėgėjo! \n\nRegistracija čia\nArba Home šokių studijoje (kreiptis į administratorę)\n\n  \nLauksime tavęs jau šią vasarą kartu kurti prisiminimus! \n  \nHOME SUMMER CAMP 2026 REGISTRACIJA \n  \n#HOME
URL:https://homestudija.lt/event/dienos-stovykla-vaikams-kaune-home-studija/
LOCATION:Home šokių studija\, Savanorių pr. 419\, Kaunas\, Lithuania
ATTACH;FMTTYPE=image/jpeg:https://homestudija.lt/wp-content/uploads/2026/02/Black-and-Yellow-Grunge-Music-Festival-Flyer-1920-x-1080-px.jpg
END:VEVENT
END:VCALENDAR